BEGIN:VCALENDAR
VERSION:2.0
PRODID:-//ChamberMaster//Event Calendar 2.0//EN
METHOD:PUBLISH
X-PUBLISHED-TTL:P1H
REFRESH-INTERVAL:P1H
CALSCALE:GREGORIAN
BEGIN:VTIMEZONE
TZID:America/Denver
BEGIN:DAYLIGHT
RRULE:FREQ=YEARLY;BYMONTH=3;BYDAY=2SU
DTSTART:20070101T000000
TZOFFSETFROM:-0700
TZOFFSETTO:-0600
TZNAME:Mountain Daylight Time
END:DAYLIGHT
BEGIN:STANDARD
RRULE:FREQ=YEARLY;BYMONTH=11;BYDAY=1SU
DTSTART:20070101T000000
TZOFFSETFROM:-0600
TZOFFSETTO:-0700
TZNAME:Mountain Standard Time
END:STANDARD
END:VTIMEZONE
BEGIN:VEVENT
DTSTART;TZID=America/Denver:20260408T113000
DTEND;TZID=America/Denver:20260408T130000
X-MICROSOFT-CDO-ALLDAYEVENT:FALSE
SUMMARY:Business Retention and Expansion Coalition
DESCRIPTION:A bi-monthly meeting of local economic development professionals and partners involved in business retention and expansion efforts across our Greater Adams County region.This meeting is limited to specific members. If you have questions about attending\, please feel free to send an email to info@ac-rep.org
X-ALT-DESC;FMTTYPE=text/html:<!DOCTYPE html><html><head><title></title></head><body aria-disabled="false" spellcheck="false"><p>A bi-monthly meeting of local economic development professionals and partners involved in business retention and expansion efforts across our Greater Adams County region.</p><p>This meeting is limited to specific members. If you have questions about attending\, please feel free to send an email to info@ac-rep.org</p></body></html>
LOCATION:1870 W 122nd Ave. Suite 300 Westminster CO 80234
UID:e.3139.1374810
SEQUENCE:3
DTSTAMP:20260420T165028Z
URL:https://members.ac-rep.org/event-calendar/Details/business-retention-and-expansion-coalition-1623006?sourceTypeId=Hub
END:VEVENT
END:VCALENDAR
