BEGIN:VCALENDAR
VERSION:2.0
PRODID:-//ChamberMaster//Event Calendar 2.0//EN
METHOD:PUBLISH
X-PUBLISHED-TTL:P1H
REFRESH-INTERVAL:P1H
CALSCALE:GREGORIAN
BEGIN:VTIMEZONE
TZID:America/Denver
BEGIN:DAYLIGHT
RRULE:FREQ=YEARLY;BYMONTH=3;BYDAY=2SU
DTSTART:20070101T000000
TZOFFSETFROM:-0700
TZOFFSETTO:-0600
TZNAME:Mountain Daylight Time
END:DAYLIGHT
BEGIN:STANDARD
RRULE:FREQ=YEARLY;BYMONTH=11;BYDAY=1SU
DTSTART:20070101T000000
TZOFFSETFROM:-0600
TZOFFSETTO:-0700
TZNAME:Mountain Standard Time
END:STANDARD
END:VTIMEZONE
BEGIN:VEVENT
DTSTART;TZID=America/Denver:20261209T080000
DTEND;TZID=America/Denver:20261209T103000
X-MICROSOFT-CDO-ALLDAYEVENT:FALSE
SUMMARY:Legislative Preview
DESCRIPTION:Annual Legislative Preview Breakfast featuring regional legislators. Registration opens in Fall 2026. For early sponsorships\, please contact Lisa Hough at AC-REP for more information.
X-ALT-DESC;FMTTYPE=text/html:<!DOCTYPE html><html><head><title></title></head><body aria-disabled="false" spellcheck="false"><p>Annual Legislative Preview Breakfast featuring regional legislators. Registration opens in Fall 2026. For early sponsorships\, please contact Lisa Hough at AC-REP for more information.&nbsp\;</p></body></html>
LOCATION:1870 W 122nd Ave Westminster CO 80234
UID:e.3139.1370695
SEQUENCE:3
DTSTAMP:20260420T165151Z
URL:https://members.ac-rep.org/event-calendar/Details/legislative-preview-1617748?sourceTypeId=Hub
END:VEVENT
END:VCALENDAR
